BEGIN:VCALENDAR
VERSION:2.0
PRODID:-//Apex-Brasil
CALSCALE:GREGORIAN
X-WR-CALNAME:Apex-Brasil
BEGIN:VEVENT
CLASS:PUBLIC
CREATED:20260420T020911Z
UID:3a01ad5e-748f-4e08-9618-98e6b0bcbf00
DTSTART;VALUE=DATE:20230926T000000Z
DTEND:20230929T000000Z
SUMMARY;LANGUAGE=pt-br:Marmomac 2023
DESCRIPTION:Organização do Pavilhão Brasileiro na Marmomac 2023, uma das principais feiras de rochas naturais do mundo. A Marmomac é considerada um dos principais eventos mundiais para indústria lítica representando toda sua cadeia de suprimentos, desde matérias-primas a máquinas e tecnologias de processamento e design.  É o local ideal para exposição dos mais avançado know-how na fabricação e processamento de pedras naturais.

Inscrições até dia 09/06/2023. Após essa data, as inscrições recebidas serão consideradas em lista de espera.
LOCATION:Verona, , ITÁLIA
URL;VALUE=URI:https://portalapex.azurewebsites.net/evento/marmomac-2023/
TRANSP:OPAQUE
BEGIN:VALARM
ACTION:DISPLAY
TRIGGER;VALUE=DATE-TIME:20230926T000000Z
DESCRIPTION:Lembrete para Marmomac 2023
END:VALARM
END:VEVENT
END:VCALENDAR
		