BEGIN:VCALENDAR
VERSION:2.0
PRODID:-//Apex-Brasil
CALSCALE:GREGORIAN
X-WR-CALNAME:Apex-Brasil
BEGIN:VEVENT
CLASS:PUBLIC
CREATED:20260422T030328Z
UID:36248288-a5d4-4bee-99e9-7fe6c7654f73
DTSTART;VALUE=DATE:20200901T030000Z
DTEND:20201130T030000Z
SUMMARY;LANGUAGE=pt-br:DIGITAL MISSION - OIL AND GAS 2020
DESCRIPTION:Apex-Brasil will promote from August to November 2020 the 1st Digital Oil and Gas Mission, contemplating a series of activities in a 100% online format to encourage the development of international partnerships focused on the Oil & Gas sector.

This digital mission will involve actions aimed at inserting foreign companies in the Oil & Gas supply chain in Brazil, especially those that offer innovative and technological based solutions.  Also, we will provide guidance to Brazilian companies on expanding international operations to the main decision-making center in the sector located in Houston, USA, and support customized for international business development with potential local partners.
LOCATION:Brasília, Distrito Federal, BRASIL
URL;VALUE=URI:https://portalapex.azurewebsites.net/evento/digital-mission-oil-and-gas-2020/
TRANSP:OPAQUE
BEGIN:VALARM
ACTION:DISPLAY
TRIGGER;VALUE=DATE-TIME:20200901T030000Z
DESCRIPTION:Lembrete para DIGITAL MISSION - OIL AND GAS 2020
END:VALARM
END:VEVENT
END:VCALENDAR
		