BEGIN:VCALENDAR
VERSION:2.0
PRODID:-//Apex-Brasil
CALSCALE:GREGORIAN
X-WR-CALNAME:Apex-Brasil
BEGIN:VEVENT
CLASS:PUBLIC
CREATED:20260423T164658Z
UID:f60ce78b-0c41-4f2f-b6ac-32fc1be10e20
DTSTART;VALUE=DATE:20160316T030000Z
DTEND:20160321T030000Z
SUMMARY;LANGUAGE=pt-br:Cosmoprof Bologna 2016
DESCRIPTION:Trata-se de missão prospectiva à feira que considerada o mais completo evento mundial do setor profissional da beleza, a feira acontece há 49 anos. O principal foco da missão técnica, composta por empresários e técnicos do setor químico/cosméticos, especialmente MPMEs dos diversos segmentos, é o de promover a melhoria da competitividade e internacionalização das mesmas, através do acesso e absorção de novos conhecimentos e tecnologias, competências, tendências de consumo e mercado, dentre outros 
LOCATION:Bolonha, , Itália
URL;VALUE=URI:https://portalapex.azurewebsites.net/evento/cosmoprof-bologna-2016/
TRANSP:OPAQUE
BEGIN:VALARM
ACTION:DISPLAY
TRIGGER;VALUE=DATE-TIME:20160316T030000Z
DESCRIPTION:Lembrete para Cosmoprof Bologna 2016
END:VALARM
END:VEVENT
END:VCALENDAR
		